BEGIN:VCALENDAR
VERSION:2.0
PRODID:-//Ziber2013/
CALSCALE:GREGORIAN
BEGIN:VEVENT
UID:260275@https://www.kcars.nl
DTSTART:20260426T140000
DTEND:20260426T160000
SUMMARY:Jubileumconcert ’30 jaar’ gemengd koor Cantabile uit Schagen
DESCRIPTION:<p>Annie van 82 jaar uit Schagen komt al jaren zingen bij het gemengd koor Cantabile in Schagen. Nee\, geen 30 jaar. Ze denkt zelf aan ongeveer 20 jaar. Annie wordt er ontzettend blij van. Zingen maakt haar gelukkig. Iedere week ontmoet zij de andere zangers en zangeressen. Deze maanden zijn zij druk aan het repeteren voor het jubileum concert. Al 30 jaar bestaat het gemengd koor Cantabile uit Schagen.  </p><p>Het jubileumconcert vindt plaats op zondagmiddag 26 april van 14.00 uur tot 16.00 in de Keesschuur in Anna Paulowna\, onder leiding van dirigent <b>Gerrit van de Belt</b>\, pianiste <b>Jing Zhou</b> en op drums door <b>Ewout Nieuwland</b>. Omdat het een jubileumconcert betreft vinden er een aantal muziek intermezzo’s plaats. Door Jing Zhou op accordeon en door <b>duo Peter Hopman op trompet en Sander Hopman op piano</b> Een afwisselende en vooral een  muzikale middag!.</p><p>Het gemengd koor neemt ons mee met 15 verschillende nummers zoals House for Sale\, Geef mij je angst en Siera Madre. Wij hopen dat u nieuwsgierig bent geworden! Komt u gezellig langs? De zaal is open vanaf 13.30 uur. </p><p>Er is gratis parkeergelegenheid bij Middenweg nummer 9b en nummer 15 in Anna Paulowna.</p>
LOCATION:Middenweg 9B\, 1761 LD Anna Paulowna
ATTACH;FMTTYPE=image/jpeg:/content/33322/agenda/clnt/daaec1eb00b24b1bbb9de6043ccdede9.jpg?width=1600&height=1200
SEQUENCE:0
DTSTAMP:20260425T130355
END:VEVENT
END:VCALENDAR
