BEGIN:VCALENDAR
VERSION:2.0
PRODID:-//Ziber2013/
CALSCALE:GREGORIAN
BEGIN:VEVENT
UID:258421@https://www.kcars.nl
DTSTART:20260430T140000
DTEND:20260430T163000
SUMMARY:Film: THE HISTORY OF SOUND in Scagon de Luxe
DESCRIPTION:<p>Scagon De Luxe\, Theater & Filmhuis. <b>The History of Sound</b> (2025\, VS\, Verenigd Koninkrijk\, Oliver Hermanus\, 128 min. drama\, romantiek).</p><p>Lionel en David ondernemen een geïmproviseerde reis door de wildernis van Maine om volksliedjes te verzamelen. De daaropvolgende liefdesaffaire en de muziek die ze verzamelen en vastleggen\, zullen een bepalende invloed hebben op de loop van Lionels leven.</p><p>Entree € 10\,-. </p><p><b>[url|https://www.youtube.com/watch?v=digKV0Nf7GE|https://www.youtube.com/watch?v=digKV0Nf7GE|ext]</b></p>
LOCATION:Scagon De Luxe Theater & Filmhuis\, Torenstraat 1B\, 1741 CB Schagen
ATTACH;FMTTYPE=image/jpeg:/content/33322/agenda/clnt/f02463ad4fba4e538446aa714bbdee1b.jpg?width=1600&height=1200
SEQUENCE:0
DTSTAMP:20260425T125423
END:VEVENT
END:VCALENDAR
