BEGIN:VCALENDAR
VERSION:2.0
PRODID:-//Ziber2013/
CALSCALE:GREGORIAN
BEGIN:VEVENT
UID:256896@https://www.kcars.nl
DTSTART:20260426T090000
DTEND:20260426T170000
SUMMARY:Fietsdag Bloeiend Zijpe
DESCRIPTION:<p><b><u>Bloeiend Zijpe - Fietsdag – 26 april 2026</u></b>\nOp 26 april wordt de gezellige fietsdag van 40 kilometer langs de bloeiende bloembollenvelden georganiseerd. Deze kleurrijke fietstocht is uniek en wordt gehouden in het grootste aaneengesloten bloembollengebied ter wereld. U komt met uw fiets ook langs mooie bezienswaardigheden in de oud-gemeente Zijpe. Het grootste deel van de route gaat over de verharde wegen rond de bollenvelden met af en toe een uitschieter door een bloembollenveld.</p><p>De kosten voor deelname aan de fietsdag zijn € 7\,50\,- per persoon (tot 12 jaar € 4\,-). Voorinschrijving is niet benodigd. Onderweg wordt u een kleine versnapering aangeboden en na afloop is er voor iedereen een leuke attentie.</p><p>De meest recente informatie met startplaatsen vindt u in april op www.bloeiendzijpe.nl</p>
LOCATION:KCARS
ATTACH;FMTTYPE=image/jpeg:/content/33322/agenda/clnt/1cfa2f31083e43429044772229f1370f.png?width=1600&height=1200
SEQUENCE:0
DTSTAMP:20260425T124732
END:VEVENT
END:VCALENDAR
